BEGIN:VCALENDAR
VERSION:2.0
PRODID:-//WONDER//NONSGML Events//EN
CALSCALE:GREGORIAN
X-WR-CALNAME:WONDER - Events
X-ORIGINAL-URL:https://www.wonderwada.com/events/event/
X-WR-CALDESC:WONDER - Events
BEGIN:VEVENT
UID:20210303T1636Z-1614789379.5791-EO-3122-1@183.181.90.53
STATUS:CONFIRMED
DTSTAMP:20260424T172336Z
CREATED:20200409T104152Z
LAST-MODIFIED:20251029T135704Z
DTSTART;TZID=Asia/Tokyo:20210830T090000
DTEND;TZID=Asia/Tokyo:20210830T190000
RRULE:FREQ=MONTHLY;INTERVAL=1;BYDAY=-1MO;UNTIL=20250919T000000Z
EXDATE;TZID=Asia/Tokyo:20200622T090000,20210531T090000
RDATE;TZID=Asia/Tokyo:20200330T090000,20200727T090000,20200629T090000,20201026T090000,20201130T090000,20201228T090000,20210125T090000,20210222T090000,20210426T090000,20210628T090000,20210726T090000,20210927T090000,20211025T090000,20220131T090000,20220228T090000,20220328T090000,20220425T090000,20220530T090000,20220627T090000,20220725T090000,20220829T090000,20220926T090000,20221031T090000,20221128T090000,20221226T090000,20230130T090000,20230227T090000,20230327T090000,20230424T090000,20230529T090000,20230626T090000,20230731T090000,20230828T090000,20230925T090000,20231030T090000,20231127T090000,20231225T090000,20240129T090000,20240226T090000,20240325T090000,20240422T090000,20240527T090000,20240624T090000,20240729T090000,20240830T090000,20240927T090000,20241025T090000,20241129T090000,20241227T090000,20250131T090000,20250228T090000,20250328T090000,20250425T090000,20250523T090000,20250620T090000,20250718T090000,20250829T090000,20250919T090000
SUMMARY: マルエツ戸倉店
X-ALT-DESC;FMTTYPE=text/html: <p>[eo_subscribe title="イベントをgoogleに取り込む" typ
 e="google" category="tokura"] Googleカレンダーに読み込む[/eo_subscribe]<br />[eo_subs
 cribe title="イベントを取り込む" type="ical" category="tokura"]iPhoneに読み込む[/eo_subsc
 ribe]</p>
CATEGORIES:マルエツ戸倉店
LOCATION:マルエツ戸倉店
GEO:35.713710;139.457342
ORGANIZER;CN="wonderwada":MAILTO:
URL;VALUE=URI:https://www.wonderwada.com/events/event/tokura/
END:VEVENT
BEGIN:VEVENT
UID:20210303T1636Z-1614789379.6892-EO-3119-1@183.181.90.53
STATUS:CONFIRMED
DTSTAMP:20260424T172336Z
CREATED:20200409T103833Z
LAST-MODIFIED:20250914T055819Z
DTSTART;TZID=Asia/Tokyo:20200420T090000
DTEND;TZID=Asia/Tokyo:20200420T190000
RDATE;TZID=Asia/Tokyo:20200518T090000,20200601T090000,20200615T090000,20200706T090000,20200720T090000,20200803T090000,20200907T090000,20200914T090000,20201005T090000,20201019T090000,20201102T090000,20201109T090000,20201116T090000,20201207T090000,20201214T090000,20201221T090000,20210118T090000,20210201T090000,20210208T090000,20210215T090000,20210301T090000,20210308T090000,20210315T090000,20210405T090000,20210419T090000,20210510T090000,20210524T090000,20210621T090000,20210705T090000,20210712T090000,20210719T090000,20210802T090000,20210823T090000,20210906T090000,20211101T090000,20211115T090000,20211213T090000,20220117T090000,20220214T090000,20220307T090000,20220411T090000,20220516T090000,20220613T090000,20220704T090000,20220801T090000,20220905T090000,20221017T090000,20221107T090000,20221121T090000,20221212T090000,20230116T090000,20230313T090000,20230410T090000,20230206T090000,20230220T090000,20230501T090000,20230515T090000,20230612T090000,20230703T090000,20230807T090000,20230904T090000,20231016T090000,20231113T090000,20231211T090000,20240115T090000,20240219T090000,20240311T090000,20240408T090000,20240520T090000,20240610T090000,20240708T090000,20240819T090000,20240902T090000,20241014T090000,20241104T090000,20241118T090000,20241202T090000,20241216T090000,20250120T090000,20250203T090000,20250217T090000,20250303T090000,20250317T090000,20250407T090000,20250421T090000,20250512T090000,20250526T090000,20250609T090000,20250623T090000,20250707T090000,20250728T090000,20250804T090000,20250825T090000,20250908T090000,20250929T090000,20251006T090000,20251020T090000
SUMMARY: さえき是政店
X-ALT-DESC;FMTTYPE=text/html: <p>[eo_subscribe title="google" type="google"
  category="koremasa"] Googleカレンダーに読み込む[/eo_subscribe]<br />[eo_subscribe ti
 tle="ical" type="ical" category="koremasa"]iPhoneに読み込む[/eo_subscribe]</p>
CATEGORIES:さえき是政店
LOCATION:さえき是政
GEO:35.657901;139.490359
ORGANIZER;CN="wonderwada":MAILTO:
URL;VALUE=URI:https://www.wonderwada.com/events/event/%e3%81%95%e3%81%88%e3
 %81%8d%e6%98%af%e6%94%bf%e5%ba%97/
END:VEVENT
BEGIN:VEVENT
UID:20210303T1636Z-1614789379.712-EO-3120-1@183.181.90.53
STATUS:CONFIRMED
DTSTAMP:20260424T172336Z
CREATED:20200409T103928Z
LAST-MODIFIED:20210309T002710Z
DTSTART;TZID=Asia/Tokyo:20200929T090000
DTEND;TZID=Asia/Tokyo:20200929T180000
RRULE:FREQ=MONTHLY;INTERVAL=1;BYDAY=-1TU;UNTIL=20200929T000000Z
EXDATE;TZID=Asia/Tokyo:20200505T090000
RDATE;TZID=Asia/Tokyo:20200421T090000,20200721T090000,20200519T090000,20200616T090000,20200630T090000,20200901T090000,20200915T090000
SUMMARY: マルエツ鶴川店
X-ALT-DESC;FMTTYPE=text/html: <p>[eo_subscribe title="google" type="google"
  category="tsurukawa"] Googleカレンダーに読み込む[/eo_subscribe]<br /><br />[eo_subsc
 ribe title="ical" type="ical" category="tsurukawa"]iPhoneに読み込む[/eo_subscrib
 e]</p>
CATEGORIES:マルエツ鶴川店
LOCATION:マルエツ鶴川店
GEO:35.584256;139.482504
ORGANIZER;CN="wonderwada":MAILTO:
URL;VALUE=URI:https://www.wonderwada.com/events/event/%e3%83%9e%e3%83%ab%e3
 %82%a8%e3%83%84%e9%b6%b4%e5%b7%9d%e5%ba%97/
END:VEVENT
BEGIN:VEVENT
UID:20210303T1636Z-1614789379.7202-EO-3121-1@183.181.90.53
STATUS:CONFIRMED
DTSTAMP:20260424T172336Z
CREATED:20200409T104036Z
LAST-MODIFIED:20251210T000539Z
DTSTART;TZID=Asia/Tokyo:20251210T093000
DTEND;TZID=Asia/Tokyo:20251210T190000
RRULE:FREQ=WEEKLY;INTERVAL=1;BYDAY=WE;UNTIL=20251217T003000Z
RDATE;TZID=Asia/Tokyo:20200422T093000,20200527T093000,20200624T093000,20200722T093000,20200826T093000,20200812T093000,20200909T093000,20201014T093000,20201111T093000,20201125T093000,20201209T093000,20201223T093000,20210113T093000,20210127T093000,20210210T093000,20210224T093000,20210310T093000,20210324T093000,20210414T093000,20210428T093000,20210512T093000,20210526T093000,20210609T093000,20210623T093000,20210714T093000,20210728T093000,20210811T093000,20210825T093000,20210908T093000,20210922T093000,20211013T093000,20211027T093000,20211110T093000,20211124T093000,20211208T093000,20211222T093000,20220112T093000,20220126T093000,20220209T093000,20220223T093000,20220309T093000,20220323T093000,20220413T093000,20220427T093000,20220511T093000,20220525T093000,20220608T093000,20220622T093000,20220713T093000,20220727T093000,20220810T093000,20220824T093000,20220914T093000,20220928T093000,20221012T093000,20221026T093000,20221109T093000,20221123T093000,20221214T093000,20221228T093000,20230111T093000,20230125T093000,20230208T093000,20230222T093000,20230308T093000,20230322T093000,20230412T093000,20230426T093000,20230510T093000,20230524T093000,20230614T093000,20230628T093000,20230712T093000,20230726T093000,20230809T093000,20230823T093000,20230913T093000,20230927T093000,20231011T093000,20231025T093000,20231213T093000,20231227T093000,20240110T093000,20240124T093000,20240228T093000,20240313T093000,20240327T093000,20240410T093000,20240424T093000,20240508T093000,20240522T093000,20240612T093000,20240626T093000,20240710T093000,20240724T093000,20240828T093000,20240911T093000,20240925T093000,20241009T093000,20241023T093000,20241113T093000,20241127T093000,20241211T093000,20241225T093000,20250108T093000,20250122T093000,20250129T093000,20250212T093000,20250226T093000,20250312T093000,20250326T093000,20250402T093000,20250416T093000,20250423T093000,20250409T093000,20250507T093000,20250514T093000,20250521T093000,20250528T093000,20250604T093000,20250611T093000,20250618T093000,20250625T093000,20250702T093000,20250709T093000,20250716T093000,20250723T093000,20250730T093000,20250806T093000,20250813T093000,20250827T093000,20250910T093000,20250903T093000,20250917T093000,20250924T093000,20251001T093000,20251008T093000,20251015T093000,20251022T093000
SUMMARY: Aコープ城山店
X-ALT-DESC;FMTTYPE=text/html: <p>[eo_subscribe title="google" type="google"
  category="shiroyama"]Googleカレンダーに読み込む[/eo_subscribe]<br />[eo_subscribe ti
 tle="ical" type="ical" category="shiroyama"]iPhoneに読み込む[/eo_subscribe]</p>
CATEGORIES:Aコープ城山店
LOCATION:Aコープ城山店
GEO:35.590542;139.302766
ORGANIZER;CN="wonderwada":MAILTO:
URL;VALUE=URI:https://www.wonderwada.com/events/event/a%e3%82%b3%e3%83%bc%e
 3%83%97%e5%9f%8e%e5%b1%b1%e5%ba%97/
END:VEVENT
BEGIN:VEVENT
UID:20210303T1636Z-1614789379.7371-EO-3102-1@183.181.90.53
STATUS:CONFIRMED
DTSTAMP:20260424T172336Z
CREATED:20200409T081610Z
LAST-MODIFIED:20230604T042529Z
DTSTART;TZID=Asia/Tokyo:20200924T090000
DTEND;TZID=Asia/Tokyo:20200924T190000
RRULE:FREQ=MONTHLY;INTERVAL=2;BYDAY=4TH;UNTIL=20230727T000000Z
RDATE;TZID=Asia/Tokyo:20200423T090000,20200514T090000,20200528T090000,20200603T090000,20200617T090000,20200715T090000,20200729T090000,20200813T090000,20200827T090000,20200910T090000,20201007T090000,20201021T090000,20201112T090000,20201126T090000,20201210T090000,20201224T090000,20210114T090000,20210128T090000,20210204T090000,20210225T090000,20210311T090000,20210325T090000,20210408T090000,20210422T090000,20210513T090000,20210527T090000,20210610T090000,20210624T090000,20210708T090000,20210729T090000,20210812T090000,20210826T090000,20210909T090000,20210930T090000,20211014T090000,20211028T090000,20211111T090000,20211125T090000,20211209T090000,20211223T090000,20220113T090000,20220127T090000,20220210T090000,20220224T090000,20220310T090000,20220324T090000,20220331T090000,20220414T090000,20220428T090000,20220512T090000,20220526T090000,20220602T090000,20220616T090000,20220630T090000,20220714T090000,20220728T090000,20220804T090000,20220825T090000,20220915T090000,20220929T090000,20220901T090000,20221013T090000,20221027T090000,20221110T090000,20221124T090000,20221208T090000,20221222T090000,20230112T090000,20230126T090000,20230209T090000,20230302T090000,20230330T090000,20230316T090000,20230413T090000,20230427T090000,20230511T090000,20230525T090000,20230608T090000,20230622T090000,20230713T090000,20230727T090000
SUMMARY: エコス吉野店
X-ALT-DESC;FMTTYPE=text/html: <p>[eo_subscribe title="google" type="google"
  category="yoshino"] Googleカレンダーに読み込む[/eo_subscribe]<br />[eo_subscribe tit
 le="ical" type="ical" category="yoshino"]iPhoneのカレンダーに読み込む[/eo_subscribe]</
 p>
CATEGORIES:エコス吉野店
LOCATION:エコス吉野店
GEO:35.790103;139.221156
ORGANIZER;CN="wonderwada":MAILTO:
URL;VALUE=URI:https://www.wonderwada.com/events/event/ekosyoshino/
END:VEVENT
BEGIN:VEVENT
UID:20210303T1636Z-1614789379.7592-EO-3107-1@183.181.90.53
STATUS:CONFIRMED
DTSTAMP:20260424T172336Z
CREATED:20200409T083025Z
LAST-MODIFIED:20250914T055947Z
DTSTART;TZID=Asia/Tokyo:20200925T090000
DTEND;TZID=Asia/Tokyo:20200925T190000
RRULE:FREQ=MONTHLY;INTERVAL=1;BYDAY=4FR;UNTIL=20251024T000000Z
RDATE;TZID=Asia/Tokyo:20200424T090000,20200522T090000,20200626T090000,20200723T090000,20200828T090000,20200911T090000,20201009T090000,20201113T090000,20201127T090000,20201211T090000,20201225T090000,20210108T090000,20210122T090000,20210212T090000,20210226T090000,20210312T090000,20210326T090000,20210409T090000,20210423T090000,20210514T090000,20210528T090000,20210611T090000,20210625T090000,20210709T090000,20210722T090000,20210806T090000,20210827T090000,20210910T090000,20210924T090000,20211008T090000,20211112T090000,20211210T090000,20220114T090000,20220128T090000,20220225T090000,20220211T090000,20220311T090000,20220325T090000,20220408T090000,20220422T090000,20220513T090000,20220527T090000,20220610T090000,20220624T090000,20220708T090000,20220722T090000,20220826T090000,20220909T090000,20221014T090000,20221028T090000,20221111T090000,20221125T090000,20221209T090000,20221223T090000,20230113T090000,20230127T090000,20230210T090000,20230224T090000,20230310T090000,20230324T090000,20230414T090000,20230428T090000,20230512T090000,20230526T090000,20230609T090000,20230623T090000,20230714T090000,20230728T090000,20230804T090000,20230825T090000,20230901T090000,20230915T090000,20230929T090000,20231013T090000,20231027T090000,20231110T090000,20231124T090000,20231208T090000,20231222T090000,20240112T090000,20240126T090000,20240209T090000,20240223T090000,20240301T090000,20240315T090000,20240329T090000,20240412T090000,20240426T090000,20240510T090000,20240524T090000,20240614T090000,20240628T090000,20240712T090000,20240726T090000,20240809T090000,20240823T090000,20240906T090000,20240920T090000,20241004T090000,20241018T090000,20241115T090000,20241206T090000,20241220T090000,20241101T090000,20250110T090000,20250124T090000,20250207T090000,20250221T090000,20250307T090000,20250321T090000,20250404T090000,20250418T090000,20250502T090000,20250516T090000,20250530T090000,20250613T090000,20250627T090000,20250711T090000,20250725T090000,20250808T090000,20250912T090000,20250926T090000,20251010T090000,20251024T090000
SUMMARY: マルエツ中津店
X-ALT-DESC;FMTTYPE=text/html: <p>[eo_subscribe title="google" type="google"
  category="nakatsu"] Googleカレンダーに読み込む[/eo_subscribe]<br />[eo_subscribe tit
 le="ical" type="ical" category="nakatsu"]iPhoneに読み込む[/eo_subscribe]</p>
CATEGORIES:マルエツ中津店
LOCATION:マルエツ中津店
GEO:35.515053;139.338236
ORGANIZER;CN="wonderwada":MAILTO:
URL;VALUE=URI:https://www.wonderwada.com/events/event/nakatsu/
END:VEVENT
BEGIN:VEVENT
UID:20210303T1636Z-1614789379.6083-EO-3115-1@183.181.90.53
STATUS:CONFIRMED
DTSTAMP:20260424T172336Z
CREATED:20200409T103403Z
LAST-MODIFIED:20250914T060028Z
DTSTART;TZID=Asia/Tokyo:20210914T090000
DTEND;TZID=Asia/Tokyo:20210914T190000
RRULE:FREQ=WEEKLY;INTERVAL=2;BYDAY=TU;UNTIL=20251028T000000Z
EXDATE;TZID=Asia/Tokyo:20211207T090000,20211221T090000
RDATE;TZID=Asia/Tokyo:20200428T090000,20200526T090000,20200623T090000,20200728T090000,20200825T090000,20200930T090000,20201027T090000,20201110T090000,20201124T090000,20201208T090000,20201222T090000,20210126T090000,20210112T090000,20210223T090000,20210309T090000,20210323T090000,20210330T090000,20210427T090000,20210511T090000,20210525T090000,20210622T090000,20210713T090000,20210727T090000,20210810T090000,20210914T090000,20210928T090000,20211214T090000,20211228T090000,20220111T090000,20220125T090000,20220208T090000,20220222T090000,20220308T090000,20220322T090000,20220412T090000,20220426T090000,20220510T090000,20220524T090000,20220531T090000,20220614T090000,20220628T090000,20220712T090000,20220726T090000,20220809T090000,20220823T090000,20220830T090000,20220913T090000,20220927T090000,20221011T090000,20221025T090000,20221108T090000,20221122T090000,20221129T090000,20221213T090000,20221227T090000,20230110T090000,20230124T090000,20230214T090000,20230228T090000,20230131T090000,20230314T090000,20230328T090000,20230411T090000,20230425T090000,20230509T090000,20230523T090000,20230530T090000,20230613T090000,20230627T090000,20230711T090000,20230725T090000,20230808T090000,20230822T090000,20230912T090000,20230926T090000,20230829T090000,20231010T090000,20231024T090000,20231031T090000,20231114T090000,20231128T090000,20231212T090000,20231226T090000,20240109T090000,20240123T090000,20240130T090000,20240227T090000,20240312T090000,20240326T090000,20240409T090000,20240423T090000,20240430T090000,20240514T090000,20240528T090000,20240611T090000,20240625T090000,20240723T090000,20240730T090000,20240709T090000,20240808T090000,20240827T090000,20240910T090000,20240924T090000,20241022T090000,20241029T090000,20241008T090000,20241112T090000,20241126T090000,20241210T090000,20241224T090000,20250114T090000,20250128T090000,20250211T090000,20250225T090000,20250311T090000,20250325T090000,20250408T090000,20250422T090000,20250513T090000,20250527T090000,20250610T090000,20250624T090000,20250630T090000,20250708T090000,20250722T090000,20250729T090000,20250812T090000,20250826T090000,20250909T090000,20250930T090000,20251014T090000,20251028T090000
SUMMARY: マルエツ大宮プラザ店
X-ALT-DESC;FMTTYPE=text/html: <p>[eo_subscribe title="google" type="google"
  category="oomiya"] Googleカレンダーに読み込む[/eo_subscribe]<br />[eo_subscribe titl
 e="ical" type="ical" category="oomiya"]iPhoneに読み込む[/eo_subscribe]</p>
CATEGORIES:マルエツ大宮プラザ店
LOCATION:マルエツ大宮プラザ店
GEO:35.906540;139.579457
ORGANIZER;CN="wonderwada":MAILTO:
URL;VALUE=URI:https://www.wonderwada.com/events/event/%e3%83%9e%e3%83%ab%e3
 %82%a8%e3%83%84%e5%a4%a7%e5%ae%ae%e3%83%97%e3%83%a9%e3%82%b6%e5%ba%97/
END:VEVENT
BEGIN:VEVENT
UID:20210303T1636Z-1614789379.7825-EO-3114-1@183.181.90.53
STATUS:CONFIRMED
DTSTAMP:20260424T172336Z
CREATED:20200409T103236Z
LAST-MODIFIED:20250914T060103Z
DTSTART;TZID=Asia/Tokyo:20210706T090000
DTEND;TZID=Asia/Tokyo:20210706T190000
RRULE:FREQ=MONTHLY;INTERVAL=1;BYDAY=1TU;UNTIL=20251007T000000Z
RDATE;TZID=Asia/Tokyo:20200429T090000,20200608T090000,20200701T090000,20201104T090000,20201201T090000,20210107T090000,20210202T090000,20210302T090000,20210406T090000,20210517T090000,20210615T090000,20210706T090000,20210803T090000,20210907T090000,20220106T090000,20220201T090000,20220301T090000,20220405T090000,20220607T090000,20220705T090000,20220802T090000,20220906T090000,20221004T090000,20221101T090000,20221206T090000,20230207T090000,20230307T090000,20230404T090000,20230502T090000,20230606T090000,20230704T090000,20230801T090000,20230905T090000,20231003T090000,20231107T090000,20231205T090000,20240305T090000,20240402T090000,20240507T090000,20240604T090000,20240702T090000,20240806T090000,20240903T090000,20241001T090000,20241105T090000,20241203T090000,20250107T090000,20250204T090000,20250304T090000,20250401T090000,20250506T090000,20250603T090000,20250701T090000,20250805T090000,20250902T090000,20251007T090000
SUMMARY: さえき小谷田食品館
X-ALT-DESC;FMTTYPE=text/html: <p>[eo_subscribe title="google" type="google"
  category="koyata"]Googleカレンダーに読み込む[/eo_subscribe]<br />[eo_subscribe title
 ="ical" type="ical" category="koyata"]iPhoneに読み込む[/eo_subscribe]</p>
CATEGORIES:さえき小谷田食品館
LOCATION:さえき小谷田食品館
GEO:35.828306;139.368956
ORGANIZER;CN="wonderwada":MAILTO:
URL;VALUE=URI:https://www.wonderwada.com/events/event/%e3%81%95%e3%81%88%e3
 %81%8d%e5%b0%8f%e8%b0%b7%e7%94%b0%e9%a3%9f%e5%93%81%e9%a4%a8/
END:VEVENT
BEGIN:VEVENT
UID:20210303T1636Z-1614789379.6381-EO-3117-1@183.181.90.53
STATUS:CONFIRMED
DTSTAMP:20260424T172336Z
CREATED:20200409T103639Z
LAST-MODIFIED:20241012T112020Z
DTSTART;TZID=Asia/Tokyo:20211020T093000
DTEND;TZID=Asia/Tokyo:20211020T190000
RRULE:FREQ=MONTHLY;INTERVAL=1;BYDAY=3WE;UNTIL=20241218T003000Z
EXDATE;TZID=Asia/Tokyo:20201217T093000
RDATE;TZID=Asia/Tokyo:20200430T093000,20200507T093000,20200604T093000,20200702T093000,20200730T093000,20200806T093000,20200820T093000,20200903T093000,20201001T093000,20201029T093000,20201105T093000,20201202T093000,20201216T093000,20201230T093000,20210106T093000,20210120T093000,20210203T093000,20210217T093000,20210303T093000,20210317T093000,20210331T093000,20210407T093000,20210421T093000,20210506T093000,20210519T093000,20210616T093000,20210630T093000,20210707T093000,20210721T093000,20210804T093000,20210915T093000,20210929T093000,20210901T093000,20211006T093000,20211104T093000,20211201T093000,20220105T093000,20220119T093000,20220203T093000,20220217T093000,20220302T093000,20220317T093000,20220330T093000,20220406T093000,20220420T093000,20220518T093000,20220601T093000,20220615T093000,20220629T093000,20220706T093000,20220720T093000,20220803T093000,20220831T093000,20220907T093000,20220921T093000,20221005T093000,20221019T093000,20221102T093000,20221116T093000,20221130T093000,20221207T093000,20221221T093000,20230118T093000,20230201T093000,20230215T093000,20230329T093000,20230315T093000,20230301T093000,20230405T093000,20230419T093000,20230517T093000,20230531T093000,20230607T093000,20230621T093000,20230705T093000,20230719T093000,20230802T093000,20230830T093000,20230906T093000,20230920T093000,20231004T093000,20231018T093000,20231101T093000,20231115T093000,20231129T093000,20231206T093000,20231220T093000,20240117T093000,20240131T093000,20240207T093000,20240221T093000,20240306T093000,20240320T093000,20240403T093000,20240417T093000,20240501T093000,20240515T093000,20240529T093000,20240605T093000,20240619T093000,20240717T093000,20240703T093000,20240731T093000,20240807T093000,20240821T093000,20240904T093000,20240918T093000,20241002T093000,20241016T093000,20241030T093000,20241106T093000,20241120T093000,20241204T093000,20241218T093000
SUMMARY: Aコープ入間店
X-ALT-DESC;FMTTYPE=text/html: <p>[eo_subscribe title="google" type="google"
  category="iruma"] Googleカレンダーに読み込む[/eo_subscribe]<br />[eo_subscribe title
 ="ical" type="ical" category="iruma"]iPhoneに読み込む[/eo_subscribe]</p>
CATEGORIES:Aコープ入間店
LOCATION:Aコープ入間店
GEO:35.834620;139.425898
ORGANIZER;CN="wonderwada":MAILTO:
URL;VALUE=URI:https://www.wonderwada.com/events/event/a%e3%82%b3%e3%83%bc%e
 3%83%97%e5%85%a5%e9%96%93%e5%ba%97/
END:VEVENT
BEGIN:VEVENT
UID:20210303T1636Z-1614789379.5905-EO-3113-1@183.181.90.53
STATUS:CONFIRMED
DTSTAMP:20260424T172336Z
CREATED:20200409T100258Z
LAST-MODIFIED:20251029T135747Z
DTSTART;TZID=Asia/Tokyo:20210731T090000
DTEND;TZID=Asia/Tokyo:20210731T190000
RDATE;TZID=Asia/Tokyo:20200520T090000,20200611T090000,20200625T090000,20200709T090000,20200805T090000,20201008T090000,20201022T090000,20201118T090000,20201203T090000,20201217T090000,20210121T090000,20210218T090000,20210304T090000,20210318T090000,20210415T090000,20210429T090000,20210520T090000,20210617T090000,20210701T090000,20210715T090000,20210916T090000,20211007T090000,20211021T090000,20211118T090000,20211216T090000,20211202T090000,20220120T090000,20220202T090000,20220216T090000,20220316T090000,20220407T090000,20220421T090000,20220519T090000,20220609T090000,20220623T090000,20220707T090000,20220721T090000,20220818T090000,20220922T090000,20221006T090000,20221020T090000,20221117T090000,20221215T090000,20221201T090000,20230119T090000,20230202T090000,20230216T090000,20230309T090000,20230323T090000,20230406T090000,20230420T090000,20230518T090000,20230601T090000,20230615T090000,20230706T090000,20230720T090000,20230803T090000,20230831T090000,20230914T090000,20230928T090000,20231012T090000,20231026T090000,20231116T090000,20231130T090000,20231102T090000,20231214T090000,20231228T090000,20240111T090000,20240125T090000,20240201T090000,20240215T090000,20240229T090000,20240314T090000,20240328T090000,20240411T090000,20240425T090000,20240502T090000,20240516T090000,20240530T090000,20240613T090000,20240627T090000,20240711T090000,20240725T090000,20240801T090000,20240822T090000,20240919T090000,20241003T090000,20241017T090000,20241031T090000,20241114T090000,20241128T090000,20241212T090000,20241226T090000,20250116T090000,20250130T090000,20250227T090000,20250313T090000,20250327T090000,20250206T090000,20250410T090000,20250424T090000,20250501T090000,20250515T090000,20250529T090000,20250612T090000,20250626T090000,20250703T090000,20250717T090000,20250731T090000,20250807T090000,20250814T090000,20250904T090000,20250911T090000,20250918T090000,20251002T090000,20251016T090000
SUMMARY: マルエツひばりヶ丘店
X-ALT-DESC;FMTTYPE=text/html: <p>[eo_subscribe title="google" type="google"
  category="hibarigaoka"] Googleカレンダーに読み込む[/eo_subscribe]<br />[eo_subscribe
  title="ical" type="ical" category="hibarigaoka"]iPhoneに読み込む[/eo_subscribe]
 </p>
CATEGORIES:マルエツひばりヶ丘
LOCATION:マルエツひばりヶ丘店
GEO:35.490271;139.434134
ORGANIZER;CN="wonderwada":MAILTO:
URL;VALUE=URI:https://www.wonderwada.com/events/event/%e3%83%9e%e3%83%ab%e3
 %82%a8%e3%83%84%e3%81%b2%e3%81%b0%e3%82%8a%e3%83%b6%e4%b8%98%e5%ba%97/
END:VEVENT
BEGIN:VEVENT
UID:20210303T1636Z-1614789379.6278-EO-3116-1@183.181.90.53
STATUS:CONFIRMED
DTSTAMP:20260424T172336Z
CREATED:20200409T103534Z
LAST-MODIFIED:20250914T060212Z
DTSTART;TZID=Asia/Tokyo:20211019T090000
DTEND;TZID=Asia/Tokyo:20211019T190000
RRULE:FREQ=MONTHLY;INTERVAL=1;BYDAY=3TU;UNTIL=20251021T000000Z
RDATE;TZID=Asia/Tokyo:20200622T090000,20200713T090000,20200824T090000,20200916T090000,20201006T090000,20201020T090000,20201117T090000,20201215T090000,20210119T090000,20210216T090000,20210316T090000,20210420T090000,20210518T090000,20210629T090000,20210720T090000,20210831T090000,20210921T090000,20211019T090000,20211130T090000,20220118T090000,20220215T090000,20220315T090000,20220419T090000,20220517T090000,20220621T090000,20220719T090000,20220920T090000,20221018T090000,20221115T090000,20221220T090000,20230117T090000,20230221T090000,20230321T090000,20230418T090000,20230516T090000,20230620T090000,20230718T090000,20230919T090000,20231017T090000,20231121T090000,20231219T090000,20240116T090000,20240220T090000,20240319T090000,20240416T090000,20240521T090000,20240618T090000,20240716T090000,20240820T090000,20240917T090000,20241015T090000,20241119T090000,20241217T090000,20250121T090000,20250218T090000,20250318T090000,20250415T090000,20250520T090000,20250617T090000,20250715T090000,20250819T090000,20250916T090000,20251021T090000
SUMMARY: さえき国立店
X-ALT-DESC;FMTTYPE=text/html: <p>[eo_subscribe title="google" type="google"
  category="kunitachi"] Googleカレンダーに読み込む[/eo_subscribe]<br />[eo_subscribe t
 itle="ical" type="ical" category="kunitachi"]iPhoneに読み込む[/eo_subscribe]</p>
CATEGORIES:さえき国立店
LOCATION:さえき国立店
GEO:35.696519;139.431694
ORGANIZER;CN="wonderwada":MAILTO:
URL;VALUE=URI:https://www.wonderwada.com/events/event/%e3%81%95%e3%81%88%e3
 %81%8d%e5%9b%bd%e7%ab%8b%e5%ba%97/
END:VEVENT
BEGIN:VEVENT
UID:20210920T2208Z-1632175683.1664-EO-4145-1@183.181.90.53
STATUS:CONFIRMED
DTSTAMP:20260424T172336Z
CREATED:20210920T105350Z
LAST-MODIFIED:20250124T120612Z
DTSTART;TZID=Asia/Tokyo:20211018T100000
DTEND;TZID=Asia/Tokyo:20211018T183000
RDATE;TZID=Asia/Tokyo:20211108T100000,20211122T100000,20210913T100000,20211206T100000,20211220T100000,20220124T100000,20220207T100000,20220221T100000,20220314T100000,20220329T100000,20220404T100000,20220418T100000,20220509T100000,20220523T100000,20220606T100000,20220620T100000,20220711T100000,20220822T100000,20220808T100000,20220912T100000,20221024T100000,20221114T100000,20221205T100000,20221219T100000,20230123T100000,20230306T100000,20230320T100000,20230403T100000,20230417T100000,20230213T100000,20230508T100000,20230522T100000,20230605T100000,20230619T100000,20230710T100000,20230724T100000,20230821T100000,20230911T100000,20231002T100000,20231023T100000,20231106T100000,20231120T100000,20231218T100000,20231204T100000,20240108T100000,20240122T100000,20240212T100000,20240304T100000,20240318T100000,20240401T100000,20240415T100000,20240513T100000,20240603T100000,20240617T100000,20240701T100000,20240722T100000,20240805T100000,20240826T100000,20240909T100000,20240930T100000,20241021T100000,20241028T100000,20241111T100000,20241125T100000,20241209T100000,20241223T100000,20250115T100000,20250127T100000,20250210T100000,20250224T100000,20250310T100000,20250324T100000,20250331T100000
SUMMARY: Aコープ藤の台店
X-ALT-DESC;FMTTYPE=text/html: 
CATEGORIES:Aコープ藤の台店
LOCATION:Aコープ藤の台店
GEO:35.570917;139.449435
ORGANIZER;CN="wonderwada":MAILTO:
URL;VALUE=URI:https://www.wonderwada.com/events/event/fujinodai/
END:VEVENT
BEGIN:VEVENT
UID:20230904T1520Z-1693840818.8513-EO-4349-1@183.181.90.53
STATUS:CONFIRMED
DTSTAMP:20260424T172336Z
CREATED:20230904T012229Z
LAST-MODIFIED:20250519T015648Z
DTSTART;TZID=Asia/Tokyo:20230904T090000
DTEND;TZID=Asia/Tokyo:20230904T190000
EXDATE;TZID=Asia/Tokyo:20230904T090000
RDATE;TZID=Asia/Tokyo:20230908T090000,20230922T090000,20231006T090000,20231020T090000,20231117T090000,20231201T090000,20231215T090000,20240119T090000,20240202T090000,20240216T090000,20240308T090000,20240405T090000,20240517T090000,20240607T090000,20240705T090000,20240912T090000,20241010T090000,20241107T090000,20241205T090000,20250109T090000,20250205T090000,20250306T090000,20250403T090000,20250508T090000,20250605T090000,20250710T090000
SUMMARY: マルエツ三ヶ木店
X-ALT-DESC;FMTTYPE=text/html: 
ORGANIZER;CN="wonderwada":MAILTO:
URL;VALUE=URI:https://www.wonderwada.com/events/event/%e3%83%9e%e3%83%ab%e3
 %82%a8%e3%83%84%e4%b8%89%e3%83%b6%e6%9c%a8%e5%ba%97/
END:VEVENT
BEGIN:VEVENT
UID:20231212T0037Z-1702341442.7434-EO-4357-1@183.181.90.53
STATUS:CONFIRMED
DTSTAMP:20260424T172336Z
CREATED:20231211T120155Z
LAST-MODIFIED:20250914T060343Z
DTSTART;TZID=Asia/Tokyo:20231211T210000
DTEND;TZID=Asia/Tokyo:20231211T220000
EXDATE;TZID=Asia/Tokyo:20231211T210000
RDATE;TZID=Asia/Tokyo:20231207T210000,20240208T210000,20240307T210000,20240404T210000,20240418T210000,20240509T210000,20240523T210000,20240606T210000,20240620T210000,20240704T210000,20240718T210000,20240802T210000,20240913T210000,20241011T210000,20241122T210000,20241213T210000,20250117T210000,20250214T210000,20250314T210000,20250411T210000,20250509T210000,20250606T210000,20250704T210000,20250801T210000,20250905T210000,20251017T210000
SUMMARY: さえき若松町店
X-ALT-DESC;FMTTYPE=text/html: 
ORGANIZER;CN="wonderwada":MAILTO:
URL;VALUE=URI:https://www.wonderwada.com/events/event/%e3%81%95%e3%81%88%e3
 %81%8d%e8%8b%a5%e6%9d%be%e7%94%ba%e5%ba%97/
END:VEVENT
BEGIN:VEVENT
UID:20231212T0037Z-1702341442.7722-EO-4361-1@183.181.90.53
STATUS:CONFIRMED
DTSTAMP:20260424T172336Z
CREATED:20231211T120333Z
LAST-MODIFIED:20250914T060434Z
DTSTART;TZID=Asia/Tokyo:20231211T213000
DTEND;TZID=Asia/Tokyo:20231211T223000
EXDATE;TZID=Asia/Tokyo:20231211T213000
RDATE;TZID=Asia/Tokyo:20231221T213000,20240321T213000,20240419T213000,20240531T213000,20240621T213000,20240719T213000,20240926T213000,20241024T213000,20241121T213000,20241219T213000,20250123T213000,20250220T213000,20250319T213000,20250417T213000,20250522T213000,20250619T213000,20250724T213000,20250815T213000,20250925T213000,20251023T213000
SUMMARY: さえき北烏山店
X-ALT-DESC;FMTTYPE=text/html: 
ORGANIZER;CN="wonderwada":MAILTO:
URL;VALUE=URI:https://www.wonderwada.com/events/event/%e3%81%95%e3%81%88%e3
 %81%8d%e5%8c%97%e7%83%8f%e5%b1%b1%e5%ba%97/
END:VEVENT
BEGIN:VTIMEZONE
TZID:Asia/Tokyo
BEGIN:STANDARD
TZOFFSETFROM:+0900
TZOFFSETTO:+0900
DTSTART:20191020T120000
TZNAME:JST
END:STANDARD
END:VTIMEZONE
END:VCALENDAR
